BEGIN:VCALENDAR
VERSION:2.0
PRODID:-//Blues Derneği - ECPv6.15.20//NONSGML v1.0//EN
CALSCALE:GREGORIAN
METHOD:PUBLISH
X-ORIGINAL-URL:https://bluesdernegi.org/en
X-WR-CALDESC:Events for Blues Derneği
REFRESH-INTERVAL;VALUE=DURATION:PT1H
X-Robots-Tag:noindex
X-PUBLISHED-TTL:PT1H
BEGIN:VTIMEZONE
TZID:Europe/Moscow
BEGIN:STANDARD
TZOFFSETFROM:+0300
TZOFFSETTO:+0300
TZNAME:MSK
DTSTART:20240101T000000
END:STANDARD
END:VTIMEZONE
BEGIN:VEVENT
DTSTART;TZID=Europe/Moscow:20250217T200000
DTEND;TZID=Europe/Moscow:20250218T000000
DTSTAMP:20260420T051454
CREATED:20250614T151256Z
LAST-MODIFIED:20250614T155052Z
UID:801-1739822400-1739836800@bluesdernegi.org
SUMMARY:#77 Blues Night | Sahneye Çık!
DESCRIPTION:Blues Derneği destekçisi müziyenlerimiz\, “Sahneye Çık” kampanyamızdan konuklar ve sürpriz isimlerle dopdolu bir Blues gecesinde Ağaç Ev Kadıköy‘de buluşmak üzere! \n17 Şubat Pazartesi\, 20.15 \nGiriş: 200 TL \nBlues Derneği üyelerine: 150 TL \nGecenin bilet geliri Blues Derneği’ne bağışlanacaktır. \n“Sahneye Çık!” Kampanyamız: 14 Şubat Cuma\, saat 20.00’a kadar\, Blues performansı videosunu #letsjambluesdernegi ile etiketleyip linki DM’den bizimle paylaşanlar arasından seçilecek gruplar\, enstrümanistler ve/veya vokalistler Blues gecemizde yer alan ekiplerle birlikte sahne alacaktır.
URL:https://bluesdernegi.org/en/etkinlik/77-blues-night-sahneye-cik/
LOCATION:Ağaç Ev Kadıköy\, Osmanağa Mh. Serasker Cd. Osmancık Sk. No:13/B Altıyol Kadıköy/İstanbul\, Istanbul\, Istanbul\, 34714\, Turkey
CATEGORIES:Blues Night,Konser & Etkinlik,Proje & Kampanya,Sahneye Çık
ATTACH;FMTTYPE=image/jpeg:https://bluesdernegi.org/wp-content/uploads/2025/06/20250217-bluesnight.jpg
ORGANIZER;CN="Blues Derne%C4%9Fi":MAILTO:info@bluesdernegi.org
END:VEVENT
END:VCALENDAR