BEGIN:VCALENDAR
VERSION:2.0
PRODID:-//Blues Derneği - ECPv6.15.20//NONSGML v1.0//EN
CALSCALE:GREGORIAN
METHOD:PUBLISH
X-WR-CALNAME:Blues Derneği
X-ORIGINAL-URL:https://bluesdernegi.org/en
X-WR-CALDESC:Events for Blues Derneği
REFRESH-INTERVAL;VALUE=DURATION:PT1H
X-Robots-Tag:noindex
X-PUBLISHED-TTL:PT1H
BEGIN:VTIMEZONE
TZID:Europe/Moscow
BEGIN:STANDARD
TZOFFSETFROM:+0300
TZOFFSETTO:+0300
TZNAME:MSK
DTSTART:20240101T000000
END:STANDARD
END:VTIMEZONE
BEGIN:VEVENT
DTSTART;TZID=Europe/Moscow:20250518T143000
DTEND;TZID=Europe/Moscow:20250519T000000
DTSTAMP:20260420T010916
CREATED:20250614T181904Z
LAST-MODIFIED:20250614T181904Z
UID:881-1747578600-1747612800@bluesdernegi.org
SUMMARY:#79 Söyleşi | MSG ile Telif Hakları
DESCRIPTION:18 Mayıs Pazar günü 14.30’da Ağaç Ev Kadıköy’de Musiki Eseri Sahipleri Grubu Meslek Birliği (MSG) yetkililerinin katılımıyla aşağıdaki konular çerçevesinde bir söyleşi etkinliği düzenliyoruz. \n-Müzikle ilgili telif hakkı tipleri (söz-müzik\, prodüksiyon\, dijital-mekanik vb telifler) nelerdir? \n-Türkiye’de ve yurt dışında telif nasıl toplanır\, nasıl dağıtılır? UMK nedir? \n-Youtube\, Instagram vb mecraların telifi toplanıyor/dağıtılıyor mu? Koşulları nelerdir? \n-MSG üyeliği neden önemli? MSG hangi konularda çalışıyor? \n-Bir eser sahibi telifini nasıl takip edebilir? \n-Telif gelirini artırmak için neler yapılabilir? \n-Albümlerde çalan müzisyenler için telif veya herhangi başka bir hak söz konusu mu? \n-Cover ve telif -Yapay zeka ve telif
URL:https://bluesdernegi.org/en/etkinlik/79-soylesi-msg-ile-telif-haklari/
LOCATION:Ağaç Ev Kadıköy\, Osmanağa Mh. Serasker Cd. Osmancık Sk. No:13/B Altıyol Kadıköy/İstanbul\, Istanbul\, Istanbul\, 34714\, Turkey
CATEGORIES:Atölye & Söyleşi
ATTACH;FMTTYPE=image/jpeg:https://bluesdernegi.org/wp-content/uploads/2025/06/20250518-msg.jpg
ORGANIZER;CN="Blues Derne%C4%9Fi":MAILTO:info@bluesdernegi.org
END:VEVENT
END:VCALENDAR